BEGIN:VCALENDAR
VERSION:2.0
PRODID:-//Rev. Dr. Neiliezhü Üsou Memorial School: Soaring Above &amp; Beyond - ECPv6.15.20//NONSGML v1.0//EN
CALSCALE:GREGORIAN
METHOD:PUBLISH
X-WR-CALNAME:Rev. Dr. Neiliezhü Üsou Memorial School: Soaring Above &amp; Beyond
X-ORIGINAL-URL:https://rdnums.edu.in
X-WR-CALDESC:Events for Rev. Dr. Neiliezhü Üsou Memorial School: Soaring Above &amp; Beyond
REFRESH-INTERVAL;VALUE=DURATION:PT1H
X-Robots-Tag:noindex
X-PUBLISHED-TTL:PT1H
BEGIN:VTIMEZONE
TZID:Asia/Kolkata
BEGIN:STANDARD
TZOFFSETFROM:+0530
TZOFFSETTO:+0530
TZNAME:IST
DTSTART:20210101T000000
END:STANDARD
END:VTIMEZONE
BEGIN:VEVENT
DTSTART;VALUE=DATE:20221125
DTEND;VALUE=DATE:20221201
DTSTAMP:20260420T232219
CREATED:20220719T182038Z
LAST-MODIFIED:20220719T182038Z
UID:7217-1669334400-1669852799@rdnums.edu.in
SUMMARY:Class 6 to 10 (2023 Batch)
DESCRIPTION:
URL:https://rdnums.edu.in/event/class-6-to-10-2023-batch/
END:VEVENT
BEGIN:VEVENT
DTSTART;VALUE=DATE:20221121
DTEND;VALUE=DATE:20221125
DTSTAMP:20260420T232219
CREATED:20220719T182017Z
LAST-MODIFIED:20220719T182017Z
UID:7215-1668988800-1669334399@rdnums.edu.in
SUMMARY:Admission Dates (Provisional Admission for Old Students)
DESCRIPTION:Nursery to class 5 ( 2023 Batch)
URL:https://rdnums.edu.in/event/admission-dates-provisional-admission-for-old-students/
END:VEVENT
BEGIN:VEVENT
DTSTART;VALUE=DATE:20221117
DTEND;VALUE=DATE:20221120
DTSTAMP:20260420T232219
CREATED:20220719T181940Z
LAST-MODIFIED:20220719T181940Z
UID:7213-1668643200-1668902399@rdnums.edu.in
SUMMARY:Winter carnival cum Grandparents day
DESCRIPTION:
URL:https://rdnums.edu.in/event/winter-carnival-cum-grandparents-day/
END:VEVENT
BEGIN:VEVENT
DTSTART;VALUE=DATE:20221115
DTEND;VALUE=DATE:20221116
DTSTAMP:20260420T232219
CREATED:20220719T181923Z
LAST-MODIFIED:20220719T181923Z
UID:7211-1668470400-1668556799@rdnums.edu.in
SUMMARY:Best Attendance list/Best students award list with points of recognition- Class level
DESCRIPTION:
URL:https://rdnums.edu.in/event/best-attendance-list-best-students-award-list-with-points-of-recognition-class-level/
END:VEVENT
BEGIN:VEVENT
DTSTART;VALUE=DATE:20221114
DTEND;VALUE=DATE:20221115
DTSTAMP:20260420T232219
CREATED:20220719T182143Z
LAST-MODIFIED:20220719T182143Z
UID:7219-1668384000-1668470399@rdnums.edu.in
SUMMARY:Christmas Card Making by the respective class teachers
DESCRIPTION:
URL:https://rdnums.edu.in/event/christmas-card-making-by-the-respective-class-teachers/
END:VEVENT
BEGIN:VEVENT
DTSTART;VALUE=DATE:20221114
DTEND;VALUE=DATE:20221115
DTSTAMP:20260420T232219
CREATED:20220719T181854Z
LAST-MODIFIED:20220719T181900Z
UID:7208-1668384000-1668470399@rdnums.edu.in
SUMMARY:Children’s Day
DESCRIPTION:Report to be mailed to NBSE with pictures- Sumitra & Sentinaro I/C
URL:https://rdnums.edu.in/event/childrens-day/
END:VEVENT
BEGIN:VEVENT
DTSTART;VALUE=DATE:20221111
DTEND;VALUE=DATE:20221112
DTSTAMP:20260420T232219
CREATED:20220719T181836Z
LAST-MODIFIED:20220719T181836Z
UID:7206-1668124800-1668211199@rdnums.edu.in
SUMMARY:National Education Day
DESCRIPTION:Report to be mailed to NBSE with pictures-  Tsoteo and Pursenla  I/C
URL:https://rdnums.edu.in/event/national-education-day/
END:VEVENT
BEGIN:VEVENT
DTSTART;VALUE=DATE:20221108
DTEND;VALUE=DATE:20221109
DTSTAMP:20260420T232219
CREATED:20220719T181817Z
LAST-MODIFIED:20220719T181817Z
UID:7204-1667865600-1667951999@rdnums.edu.in
SUMMARY:National Holiday
DESCRIPTION:
URL:https://rdnums.edu.in/event/national-holiday-5/
END:VEVENT
BEGIN:VEVENT
DTSTART;VALUE=DATE:20221104
DTEND;VALUE=DATE:20221106
DTSTAMP:20260420T232219
CREATED:20220719T181801Z
LAST-MODIFIED:20220719T181801Z
UID:7202-1667520000-1667692799@rdnums.edu.in
SUMMARY:General meeting cum teachers training program
DESCRIPTION:
URL:https://rdnums.edu.in/event/general-meeting-cum-teachers-training-program/
END:VEVENT
BEGIN:VEVENT
DTSTART;VALUE=DATE:20221028
DTEND;VALUE=DATE:20221029
DTSTAMP:20260420T232219
CREATED:20220719T181716Z
LAST-MODIFIED:20220719T181716Z
UID:7198-1666915200-1667001599@rdnums.edu.in
SUMMARY:Confirmation to continue the next session
DESCRIPTION:
URL:https://rdnums.edu.in/event/confirmation-to-continue-the-next-session/
END:VEVENT
BEGIN:VEVENT
DTSTART;VALUE=DATE:20221024
DTEND;VALUE=DATE:20221025
DTSTAMP:20260420T232219
CREATED:20220719T181653Z
LAST-MODIFIED:20220719T181653Z
UID:7196-1666569600-1666655999@rdnums.edu.in
SUMMARY:National Holiday
DESCRIPTION:
URL:https://rdnums.edu.in/event/national-holiday-4/
END:VEVENT
BEGIN:VEVENT
DTSTART;VALUE=DATE:20221016
DTEND;VALUE=DATE:20221018
DTSTAMP:20260420T232219
CREATED:20220719T181741Z
LAST-MODIFIED:20220719T181741Z
UID:7200-1665878400-1666051199@rdnums.edu.in
SUMMARY:Swachhta Hi Sewa Campaign
DESCRIPTION:Report to be mailed to NBSE with pictures- and Imtinaro/ Nounenuo / Ajano I/C
URL:https://rdnums.edu.in/event/swachhta-hi-sewa-campaign/
END:VEVENT
BEGIN:VEVENT
DTSTART;VALUE=DATE:20221014
DTEND;VALUE=DATE:20221016
DTSTAMP:20260420T232219
CREATED:20220719T181554Z
LAST-MODIFIED:20220719T181554Z
UID:7194-1665705600-1665878399@rdnums.edu.in
SUMMARY:Thanksgiving & Charity Day (Life Skill Activity-3rd Evaluation)
DESCRIPTION:
URL:https://rdnums.edu.in/event/thanksgiving-charity-day-life-skill-activity-3rd-evaluation/
END:VEVENT
BEGIN:VEVENT
DTSTART;VALUE=DATE:20221004
DTEND;VALUE=DATE:20221006
DTSTAMP:20260420T232219
CREATED:20220719T181421Z
LAST-MODIFIED:20220719T181421Z
UID:7191-1664841600-1665014399@rdnums.edu.in
SUMMARY:Autumn Break
DESCRIPTION:
URL:https://rdnums.edu.in/event/autumn-break/
END:VEVENT
BEGIN:VEVENT
DTSTART;VALUE=DATE:20220927
DTEND;VALUE=DATE:20220928
DTSTAMP:20260420T232219
CREATED:20220719T181050Z
LAST-MODIFIED:20220719T181050Z
UID:7187-1664236800-1664323199@rdnums.edu.in
SUMMARY:Issue of admission forms ( Class 1-Class 9 – NEW ADMISSION)
DESCRIPTION:
URL:https://rdnums.edu.in/event/issue-of-admission-forms-class-1-class-9-new-admission/
END:VEVENT
BEGIN:VEVENT
DTSTART;VALUE=DATE:20220916
DTEND;VALUE=DATE:20220918
DTSTAMP:20260420T232219
CREATED:20220719T181027Z
LAST-MODIFIED:20220719T181027Z
UID:7185-1663286400-1663459199@rdnums.edu.in
SUMMARY:Talent Display Day
DESCRIPTION:
URL:https://rdnums.edu.in/event/talent-display-day/
END:VEVENT
BEGIN:VEVENT
DTSTART;VALUE=DATE:20220905
DTEND;VALUE=DATE:20220906
DTSTAMP:20260420T232219
CREATED:20220719T181001Z
LAST-MODIFIED:20220719T181001Z
UID:7183-1662336000-1662422399@rdnums.edu.in
SUMMARY:Teacher’s Day
DESCRIPTION:Report to be mailed to NBSE with pictures- Lanurenla & Easter I/C
URL:https://rdnums.edu.in/event/teachers-day/
END:VEVENT
BEGIN:VEVENT
DTSTART;VALUE=DATE:20220903
DTEND;VALUE=DATE:20220904
DTSTAMP:20260420T232219
CREATED:20220719T180940Z
LAST-MODIFIED:20220719T180940Z
UID:7181-1662163200-1662249599@rdnums.edu.in
SUMMARY:Pre Teachers Day – Outing- Potluck
DESCRIPTION:Pre Teachers Day – Outing- Potluck  \nI/C Amenla/ Imtinaro & Kekhrieselie for the venue
URL:https://rdnums.edu.in/event/pre-teachers-day-outing-potluck/
END:VEVENT
BEGIN:VEVENT
DTSTART;VALUE=DATE:20220825
DTEND;VALUE=DATE:20220827
DTSTAMP:20260420T232219
CREATED:20220719T180455Z
LAST-MODIFIED:20220719T180455Z
UID:7178-1661385600-1661558399@rdnums.edu.in
SUMMARY:Traditional Day
DESCRIPTION:
URL:https://rdnums.edu.in/event/traditional-day/
END:VEVENT
BEGIN:VEVENT
DTSTART;VALUE=DATE:20220819
DTEND;VALUE=DATE:20220821
DTSTAMP:20260420T232219
CREATED:20220719T180430Z
LAST-MODIFIED:20220719T180431Z
UID:7176-1660867200-1661039999@rdnums.edu.in
SUMMARY:General Meeting
DESCRIPTION:
URL:https://rdnums.edu.in/event/general-meeting/
END:VEVENT
BEGIN:VEVENT
DTSTART;VALUE=DATE:20220819
DTEND;VALUE=DATE:20220820
DTSTAMP:20260420T232219
CREATED:20220719T180416Z
LAST-MODIFIED:20220719T180416Z
UID:7174-1660867200-1660953599@rdnums.edu.in
SUMMARY:National holiday
DESCRIPTION:
URL:https://rdnums.edu.in/event/national-holiday-3/
END:VEVENT
BEGIN:VEVENT
DTSTART;VALUE=DATE:20220816
DTEND;VALUE=DATE:20220817
DTSTAMP:20260420T232219
CREATED:20220719T180400Z
LAST-MODIFIED:20220719T180400Z
UID:7172-1660608000-1660694399@rdnums.edu.in
SUMMARY:Issue of New Admission Forms ( Toddler- Nursery- LKG-UKG)
DESCRIPTION:
URL:https://rdnums.edu.in/event/issue-of-new-admission-forms-toddler-nursery-lkg-ukg/
END:VEVENT
BEGIN:VEVENT
DTSTART;VALUE=DATE:20220815
DTEND;VALUE=DATE:20220816
DTSTAMP:20260420T232219
CREATED:20220314T124325Z
LAST-MODIFIED:20220719T180604Z
UID:6941-1660521600-1660607999@rdnums.edu.in
SUMMARY:Independence Day
DESCRIPTION:Celebrate Independence Day
URL:https://rdnums.edu.in/event/independence-day/
END:VEVENT
BEGIN:VEVENT
DTSTART;VALUE=DATE:20220806
DTEND;VALUE=DATE:20220807
DTSTAMP:20260420T232219
CREATED:20220719T180337Z
LAST-MODIFIED:20220719T180337Z
UID:7170-1659744000-1659830399@rdnums.edu.in
SUMMARY:Friendship Day (Life Skill Activity-3rd Evaluation)
DESCRIPTION:
URL:https://rdnums.edu.in/event/friendship-day-life-skill-activity-3rd-evaluation/
END:VEVENT
BEGIN:VEVENT
DTSTART;VALUE=DATE:20220804
DTEND;VALUE=DATE:20220806
DTSTAMP:20260420T232219
CREATED:20220719T180315Z
LAST-MODIFIED:20220719T180315Z
UID:7168-1659571200-1659743999@rdnums.edu.in
SUMMARY:Summer Carnival
DESCRIPTION:
URL:https://rdnums.edu.in/event/summer-carnival/
END:VEVENT
BEGIN:VEVENT
DTSTART;VALUE=DATE:20220729
DTEND;VALUE=DATE:20220731
DTSTAMP:20260420T232219
CREATED:20220719T180237Z
LAST-MODIFIED:20220719T180237Z
UID:7166-1659052800-1659225599@rdnums.edu.in
SUMMARY:Science Exhibition
DESCRIPTION:
URL:https://rdnums.edu.in/event/science-exhibition/
END:VEVENT
BEGIN:VEVENT
DTSTART;VALUE=DATE:20220715
DTEND;VALUE=DATE:20220717
DTSTAMP:20260420T232219
CREATED:20220719T180219Z
LAST-MODIFIED:20220719T180219Z
UID:7164-1657843200-1658015999@rdnums.edu.in
SUMMARY:Teachers Training programme
DESCRIPTION:
URL:https://rdnums.edu.in/event/teachers-training-programme/
END:VEVENT
BEGIN:VEVENT
DTSTART;VALUE=DATE:20220628
DTEND;VALUE=DATE:20220630
DTSTAMP:20260420T232219
CREATED:20220719T180153Z
LAST-MODIFIED:20220719T180153Z
UID:7162-1656374400-1656547199@rdnums.edu.in
SUMMARY:Progress report and Question paper of classes 8 and 9
DESCRIPTION:Progress report and Question paper of classes 8 and 9 (Mid terminal examination) to be submitted to NBSE/  \nCollection of Examination fee of class 9 (Rs 700)
URL:https://rdnums.edu.in/event/progress-report-and-question-paper-of-classes-8-and-9/
END:VEVENT
BEGIN:VEVENT
DTSTART;VALUE=DATE:20220627
DTEND;VALUE=DATE:20220628
DTSTAMP:20260420T232219
CREATED:20220719T180127Z
LAST-MODIFIED:20220719T180127Z
UID:7160-1656288000-1656374399@rdnums.edu.in
SUMMARY:RDNUMS Day (Activity)
DESCRIPTION:
URL:https://rdnums.edu.in/event/rdnums-day-activity/
END:VEVENT
BEGIN:VEVENT
DTSTART;VALUE=DATE:20220623
DTEND;VALUE=DATE:20220703
DTSTAMP:20260420T232219
CREATED:20220719T180109Z
LAST-MODIFIED:20220719T180109Z
UID:7158-1655942400-1656806399@rdnums.edu.in
SUMMARY:Summer Break
DESCRIPTION:
URL:https://rdnums.edu.in/event/summer-break/
END:VEVENT
END:VCALENDAR