BEGIN:VCALENDAR
VERSION:2.0
PRODID:-//Rev. Dr. Neiliezhü Üsou Memorial School: Soaring Above &amp; Beyond - ECPv6.15.20//NONSGML v1.0//EN
CALSCALE:GREGORIAN
METHOD:PUBLISH
X-WR-CALNAME:Rev. Dr. Neiliezhü Üsou Memorial School: Soaring Above &amp; Beyond
X-ORIGINAL-URL:https://rdnums.edu.in
X-WR-CALDESC:Events for Rev. Dr. Neiliezhü Üsou Memorial School: Soaring Above &amp; Beyond
REFRESH-INTERVAL;VALUE=DURATION:PT1H
X-Robots-Tag:noindex
X-PUBLISHED-TTL:PT1H
BEGIN:VTIMEZONE
TZID:Asia/Kolkata
BEGIN:STANDARD
TZOFFSETFROM:+0530
TZOFFSETTO:+0530
TZNAME:IST
DTSTART:20230101T000000
END:STANDARD
END:VTIMEZONE
BEGIN:VEVENT
DTSTART;VALUE=DATE:20240916
DTEND;VALUE=DATE:20240917
DTSTAMP:20260420T160244
CREATED:20240219T154939Z
LAST-MODIFIED:20240219T154939Z
UID:50838-1726444800-1726531199@rdnums.edu.in
SUMMARY:National Holiday (Id-e-Milad)
DESCRIPTION:
URL:https://rdnums.edu.in/event/national-holiday-id-e-milad/
END:VEVENT
BEGIN:VEVENT
DTSTART;VALUE=DATE:20240909
DTEND;VALUE=DATE:20240910
DTSTAMP:20260420T160244
CREATED:20240219T154912Z
LAST-MODIFIED:20240219T154912Z
UID:50836-1725840000-1725926399@rdnums.edu.in
SUMMARY:Staff Meeting by the Heads
DESCRIPTION:
URL:https://rdnums.edu.in/event/staff-meeting-by-the-heads-2/
END:VEVENT
BEGIN:VEVENT
DTSTART;VALUE=DATE:20240904
DTEND;VALUE=DATE:20240906
DTSTAMP:20260420T160244
CREATED:20240219T154837Z
LAST-MODIFIED:20240219T154837Z
UID:50834-1725408000-1725580799@rdnums.edu.in
SUMMARY:Pre-Teacher's Day/Teachers’ Day Celebration (Report to NBSE)
DESCRIPTION:
URL:https://rdnums.edu.in/event/pre-teachers-day-teachers-day-celebration-report-to-nbse/
END:VEVENT
BEGIN:VEVENT
DTSTART;VALUE=DATE:20240902
DTEND;VALUE=DATE:20240903
DTSTAMP:20260420T160244
CREATED:20240219T154802Z
LAST-MODIFIED:20240219T154802Z
UID:50832-1725235200-1725321599@rdnums.edu.in
SUMMARY:2nd PTM Cum Result Declaration & Provisional Admission for Session 2025 (Pre-Nursery/Nursery-Class 7)
DESCRIPTION:
URL:https://rdnums.edu.in/event/2nd-ptm-cum-result-declaration-provisional-admission-for-session-2025-pre-nursery-nursery-class-7/
END:VEVENT
BEGIN:VEVENT
DTSTART;VALUE=DATE:20240901
DTEND;VALUE=DATE:20240902
DTSTAMP:20260420T160244
CREATED:20240219T154718Z
LAST-MODIFIED:20240219T154718Z
UID:50830-1725148800-1725235199@rdnums.edu.in
SUMMARY:Issue of New Admission Forms (Class-1 to Class-10)
DESCRIPTION:
URL:https://rdnums.edu.in/event/issue-of-new-admission-forms-class-1-to-class-10/
END:VEVENT
BEGIN:VEVENT
DTSTART;VALUE=DATE:20240826
DTEND;VALUE=DATE:20240827
DTSTAMP:20260420T160244
CREATED:20240219T154639Z
LAST-MODIFIED:20240219T154639Z
UID:50828-1724630400-1724716799@rdnums.edu.in
SUMMARY:National Holiday (Janmashtami)
DESCRIPTION:
URL:https://rdnums.edu.in/event/national-holiday-janmashtami/
END:VEVENT
BEGIN:VEVENT
DTSTART;VALUE=DATE:20240815
DTEND;VALUE=DATE:20240816
DTSTAMP:20260420T160244
CREATED:20240219T154602Z
LAST-MODIFIED:20240219T154602Z
UID:50826-1723680000-1723766399@rdnums.edu.in
SUMMARY:National Holiday (Independence Day)
DESCRIPTION:
URL:https://rdnums.edu.in/event/national-holiday-independence-day/
END:VEVENT
BEGIN:VEVENT
DTSTART;VALUE=DATE:20240813
DTEND;VALUE=DATE:20240814
DTSTAMP:20260420T160244
CREATED:20240219T154540Z
LAST-MODIFIED:20240219T154540Z
UID:50824-1723507200-1723593599@rdnums.edu.in
SUMMARY:2nd Evaluation for Pre-Nursery/Nursery to Class-7
DESCRIPTION:
URL:https://rdnums.edu.in/event/2nd-evaluation-for-pre-nursery-nursery-to-class-7/
END:VEVENT
BEGIN:VEVENT
DTSTART;VALUE=DATE:20240803
DTEND;VALUE=DATE:20240804
DTSTAMP:20260420T160244
CREATED:20240219T154513Z
LAST-MODIFIED:20240219T154513Z
UID:50822-1722643200-1722729599@rdnums.edu.in
SUMMARY:Traditional Day Cum Friendship Day
DESCRIPTION:
URL:https://rdnums.edu.in/event/traditional-day-cum-friendship-day/
END:VEVENT
BEGIN:VEVENT
DTSTART;VALUE=DATE:20240801
DTEND;VALUE=DATE:20240802
DTSTAMP:20260420T160244
CREATED:20240219T154439Z
LAST-MODIFIED:20240219T154439Z
UID:50820-1722470400-1722556799@rdnums.edu.in
SUMMARY:Issue of New Admission Forms (Pre-Nursery/Nursery to UKG)
DESCRIPTION:
URL:https://rdnums.edu.in/event/issue-of-new-admission-forms-pre-nursery-nursery-to-ukg/
END:VEVENT
BEGIN:VEVENT
DTSTART;VALUE=DATE:20240727
DTEND;VALUE=DATE:20240728
DTSTAMP:20260420T160244
CREATED:20240219T154417Z
LAST-MODIFIED:20240219T154417Z
UID:50818-1722038400-1722124799@rdnums.edu.in
SUMMARY:RDNUMS DAY (Grandparents’ Cum Parents’ Day)
DESCRIPTION:
URL:https://rdnums.edu.in/event/rdnums-day-grandparents-cum-parents-day/
END:VEVENT
BEGIN:VEVENT
DTSTART;VALUE=DATE:20240715
DTEND;VALUE=DATE:20240716
DTSTAMP:20260420T160244
CREATED:20240219T154337Z
LAST-MODIFIED:20240219T154337Z
UID:50816-1721001600-1721087999@rdnums.edu.in
SUMMARY:SPELLING BEE COMPETITION
DESCRIPTION:
URL:https://rdnums.edu.in/event/spelling-bee-competition/
END:VEVENT
BEGIN:VEVENT
DTSTART;VALUE=DATE:20240624
DTEND;VALUE=DATE:20240709
DTSTAMP:20260420T160244
CREATED:20240219T154300Z
LAST-MODIFIED:20240219T154300Z
UID:50814-1719187200-1720483199@rdnums.edu.in
SUMMARY:Summer Break
DESCRIPTION:
URL:https://rdnums.edu.in/event/summer-break-2/
END:VEVENT
BEGIN:VEVENT
DTSTART;VALUE=DATE:20240618
DTEND;VALUE=DATE:20240619
DTSTAMP:20260420T160244
CREATED:20240219T154227Z
LAST-MODIFIED:20240219T154227Z
UID:50812-1718668800-1718755199@rdnums.edu.in
SUMMARY:1st PTM Cum Result Declaration for Classes 8\, 9 & 10
DESCRIPTION:
URL:https://rdnums.edu.in/event/1st-ptm-cum-result-declaration-for-classes-8-9-10/
END:VEVENT
BEGIN:VEVENT
DTSTART;VALUE=DATE:20240617
DTEND;VALUE=DATE:20240618
DTSTAMP:20260420T160244
CREATED:20240219T154206Z
LAST-MODIFIED:20240219T154206Z
UID:50810-1718582400-1718668799@rdnums.edu.in
SUMMARY:National Holiday (Id-Ul-Zuha)
DESCRIPTION:
URL:https://rdnums.edu.in/event/national-holiday-id-ul-zuha/
END:VEVENT
BEGIN:VEVENT
DTSTART;VALUE=DATE:20240617
DTEND;VALUE=DATE:20240618
DTSTAMP:20260420T160244
CREATED:20240219T154141Z
LAST-MODIFIED:20240219T154141Z
UID:50808-1718582400-1718668799@rdnums.edu.in
SUMMARY:Staff Meeting by the Heads
DESCRIPTION:
URL:https://rdnums.edu.in/event/staff-meeting-by-the-heads/
END:VEVENT
BEGIN:VEVENT
DTSTART;VALUE=DATE:20240616
DTEND;VALUE=DATE:20240617
DTSTAMP:20260420T160244
CREATED:20240219T154115Z
LAST-MODIFIED:20240219T154115Z
UID:50806-1718496000-1718582399@rdnums.edu.in
SUMMARY:Father’s Day
DESCRIPTION:
URL:https://rdnums.edu.in/event/fathers-day/
END:VEVENT
BEGIN:VEVENT
DTSTART;VALUE=DATE:20240615
DTEND;VALUE=DATE:20240616
DTSTAMP:20260420T160244
CREATED:20240219T154053Z
LAST-MODIFIED:20240219T154053Z
UID:50804-1718409600-1718495999@rdnums.edu.in
SUMMARY:Skill Development Activity Day
DESCRIPTION:
URL:https://rdnums.edu.in/event/skill-development-activity-day-3/
END:VEVENT
BEGIN:VEVENT
DTSTART;VALUE=DATE:20240610
DTEND;VALUE=DATE:20240611
DTSTAMP:20260420T160244
CREATED:20240219T154022Z
LAST-MODIFIED:20240219T154022Z
UID:50802-1717977600-1718063999@rdnums.edu.in
SUMMARY:Mid-term Examination (10) & Phase I Final Examination (8/9)
DESCRIPTION:
URL:https://rdnums.edu.in/event/mid-term-examination-10-phase-i-final-examination-8-9/
END:VEVENT
BEGIN:VEVENT
DTSTART;VALUE=DATE:20240605
DTEND;VALUE=DATE:20240606
DTSTAMP:20260420T160244
CREATED:20240219T153926Z
LAST-MODIFIED:20240219T153926Z
UID:50800-1717545600-1717631999@rdnums.edu.in
SUMMARY:World Environment Day (Report to NBSE)
DESCRIPTION:
URL:https://rdnums.edu.in/event/world-environment-day-report-to-nbse/
END:VEVENT
BEGIN:VEVENT
DTSTART;VALUE=DATE:20240601
DTEND;VALUE=DATE:20240602
DTSTAMP:20260420T160244
CREATED:20240219T153904Z
LAST-MODIFIED:20240219T153904Z
UID:50798-1717200000-1717286399@rdnums.edu.in
SUMMARY:Quiz Competition
DESCRIPTION:
URL:https://rdnums.edu.in/event/quiz-competition/
END:VEVENT
BEGIN:VEVENT
DTSTART;VALUE=DATE:20240520
DTEND;VALUE=DATE:20240521
DTSTAMP:20260420T160244
CREATED:20240219T153841Z
LAST-MODIFIED:20240219T153841Z
UID:50796-1716163200-1716249599@rdnums.edu.in
SUMMARY:1st PTM Cum Result Declaration (Pre-Nursery/Nursery-Class 7)
DESCRIPTION:
URL:https://rdnums.edu.in/event/1st-ptm-cum-result-declaration-pre-nursery-nursery-class-7/
END:VEVENT
BEGIN:VEVENT
DTSTART;VALUE=DATE:20240518
DTEND;VALUE=DATE:20240519
DTSTAMP:20260420T160244
CREATED:20240219T153818Z
LAST-MODIFIED:20240219T153818Z
UID:50794-1715990400-1716076799@rdnums.edu.in
SUMMARY:Skill Development Activity Day
DESCRIPTION:
URL:https://rdnums.edu.in/event/skill-development-activity-day-2/
END:VEVENT
BEGIN:VEVENT
DTSTART;VALUE=DATE:20240512
DTEND;VALUE=DATE:20240513
DTSTAMP:20260420T160244
CREATED:20240219T153743Z
LAST-MODIFIED:20240219T153743Z
UID:50792-1715472000-1715558399@rdnums.edu.in
SUMMARY:Mother’s Day
DESCRIPTION:
URL:https://rdnums.edu.in/event/mothers-day/
END:VEVENT
BEGIN:VEVENT
DTSTART;VALUE=DATE:20240501
DTEND;VALUE=DATE:20240502
DTSTAMP:20260420T160244
CREATED:20240219T153702Z
LAST-MODIFIED:20240219T153702Z
UID:50790-1714521600-1714607999@rdnums.edu.in
SUMMARY:1st Evaluation Pre-Nursery/Nursery to Class 7
DESCRIPTION:
URL:https://rdnums.edu.in/event/1st-evaluation-pre-nursery-nursery-to-class-7/
END:VEVENT
BEGIN:VEVENT
DTSTART;VALUE=DATE:20240420
DTEND;VALUE=DATE:20240421
DTSTAMP:20260420T160244
CREATED:20240219T153322Z
LAST-MODIFIED:20240219T153322Z
UID:50788-1713571200-1713657599@rdnums.edu.in
SUMMARY:Talent Hunt Competition
DESCRIPTION:
URL:https://rdnums.edu.in/event/talent-hunt-competition-2/
END:VEVENT
BEGIN:VEVENT
DTSTART;VALUE=DATE:20240411
DTEND;VALUE=DATE:20240414
DTSTAMP:20260420T160244
CREATED:20240219T153158Z
LAST-MODIFIED:20240323T195722Z
UID:50784-1712793600-1713052799@rdnums.edu.in
SUMMARY:Games and Sports Day
DESCRIPTION:
URL:https://rdnums.edu.in/event/games-and-sports-day-2/
END:VEVENT
BEGIN:VEVENT
DTSTART;VALUE=DATE:20240329
DTEND;VALUE=DATE:20240402
DTSTAMP:20260420T160244
CREATED:20240219T153056Z
LAST-MODIFIED:20240219T153056Z
UID:50780-1711670400-1712015999@rdnums.edu.in
SUMMARY:Good Friday and Easter Sunday
DESCRIPTION:
URL:https://rdnums.edu.in/event/good-friday-and-easter-sunday-2/
END:VEVENT
BEGIN:VEVENT
DTSTART;VALUE=DATE:20240327
DTEND;VALUE=DATE:20240328
DTSTAMP:20260420T160244
CREATED:20240219T153023Z
LAST-MODIFIED:20240219T153023Z
UID:50778-1711497600-1711583999@rdnums.edu.in
SUMMARY:Easter Egg Painting Competition
DESCRIPTION:
URL:https://rdnums.edu.in/event/easter-egg-painting-competition/
END:VEVENT
BEGIN:VEVENT
DTSTART;VALUE=DATE:20240326
DTEND;VALUE=DATE:20240327
DTSTAMP:20260420T160244
CREATED:20240219T152959Z
LAST-MODIFIED:20240219T152959Z
UID:50776-1711411200-1711497599@rdnums.edu.in
SUMMARY:Issue of PCR Forms to Class-1
DESCRIPTION:
URL:https://rdnums.edu.in/event/issue-of-pcr-forms-to-class-1-2/
END:VEVENT
END:VCALENDAR