BEGIN:VCALENDAR
VERSION:2.0
PRODID:-//Rev. Dr. Neiliezhü Üsou Memorial School: Soaring Above &amp; Beyond - ECPv6.15.20//NONSGML v1.0//EN
CALSCALE:GREGORIAN
METHOD:PUBLISH
X-ORIGINAL-URL:https://rdnums.edu.in
X-WR-CALDESC:Events for Rev. Dr. Neiliezhü Üsou Memorial School: Soaring Above &amp; Beyond
REFRESH-INTERVAL;VALUE=DURATION:PT1H
X-Robots-Tag:noindex
X-PUBLISHED-TTL:PT1H
BEGIN:VTIMEZONE
TZID:Asia/Kolkata
BEGIN:STANDARD
TZOFFSETFROM:+0530
TZOFFSETTO:+0530
TZNAME:IST
DTSTART:20210101T000000
END:STANDARD
END:VTIMEZONE
BEGIN:VEVENT
DTSTART;VALUE=DATE:20220804
DTEND;VALUE=DATE:20220806
DTSTAMP:20260421T023626
CREATED:20220719T180315Z
LAST-MODIFIED:20220719T180315Z
UID:7168-1659571200-1659743999@rdnums.edu.in
SUMMARY:Summer Carnival
DESCRIPTION:
URL:https://rdnums.edu.in/event/summer-carnival/
END:VEVENT
BEGIN:VEVENT
DTSTART;VALUE=DATE:20220729
DTEND;VALUE=DATE:20220731
DTSTAMP:20260421T023626
CREATED:20220719T180237Z
LAST-MODIFIED:20220719T180237Z
UID:7166-1659052800-1659225599@rdnums.edu.in
SUMMARY:Science Exhibition
DESCRIPTION:
URL:https://rdnums.edu.in/event/science-exhibition/
END:VEVENT
BEGIN:VEVENT
DTSTART;VALUE=DATE:20220715
DTEND;VALUE=DATE:20220717
DTSTAMP:20260421T023626
CREATED:20220719T180219Z
LAST-MODIFIED:20220719T180219Z
UID:7164-1657843200-1658015999@rdnums.edu.in
SUMMARY:Teachers Training programme
DESCRIPTION:
URL:https://rdnums.edu.in/event/teachers-training-programme/
END:VEVENT
BEGIN:VEVENT
DTSTART;VALUE=DATE:20220628
DTEND;VALUE=DATE:20220630
DTSTAMP:20260421T023626
CREATED:20220719T180153Z
LAST-MODIFIED:20220719T180153Z
UID:7162-1656374400-1656547199@rdnums.edu.in
SUMMARY:Progress report and Question paper of classes 8 and 9
DESCRIPTION:Progress report and Question paper of classes 8 and 9 (Mid terminal examination) to be submitted to NBSE/  \nCollection of Examination fee of class 9 (Rs 700)
URL:https://rdnums.edu.in/event/progress-report-and-question-paper-of-classes-8-and-9/
END:VEVENT
BEGIN:VEVENT
DTSTART;VALUE=DATE:20220627
DTEND;VALUE=DATE:20220628
DTSTAMP:20260421T023626
CREATED:20220719T180127Z
LAST-MODIFIED:20220719T180127Z
UID:7160-1656288000-1656374399@rdnums.edu.in
SUMMARY:RDNUMS Day (Activity)
DESCRIPTION:
URL:https://rdnums.edu.in/event/rdnums-day-activity/
END:VEVENT
BEGIN:VEVENT
DTSTART;VALUE=DATE:20220623
DTEND;VALUE=DATE:20220703
DTSTAMP:20260421T023626
CREATED:20220719T180109Z
LAST-MODIFIED:20220719T180109Z
UID:7158-1655942400-1656806399@rdnums.edu.in
SUMMARY:Summer Break
DESCRIPTION:
URL:https://rdnums.edu.in/event/summer-break/
END:VEVENT
BEGIN:VEVENT
DTSTART;VALUE=DATE:20220617
DTEND;VALUE=DATE:20220619
DTSTAMP:20260421T023626
CREATED:20220719T180041Z
LAST-MODIFIED:20220719T180041Z
UID:7156-1655424000-1655596799@rdnums.edu.in
SUMMARY:*General Meeting /*Father’s Day (Life Skill Activity-2nd Evaluation)
DESCRIPTION:
URL:https://rdnums.edu.in/event/general-meeting-fathers-day-life-skill-activity-2nd-evaluation/
END:VEVENT
BEGIN:VEVENT
DTSTART;TZID=Asia/Kolkata:20220608T080000
DTEND;TZID=Asia/Kolkata:20220608T170000
DTSTAMP:20260421T023626
CREATED:20220719T180021Z
LAST-MODIFIED:20220719T180021Z
UID:7154-1654675200-1654707600@rdnums.edu.in
SUMMARY:I term examination  (Nursery to Class 7)/ Mid term examination ( 8 & 9)
DESCRIPTION:
URL:https://rdnums.edu.in/event/i-term-examination-nursery-to-class-7-mid-term-examination-8-9/
END:VEVENT
BEGIN:VEVENT
DTSTART;VALUE=DATE:20220605
DTEND;VALUE=DATE:20220606
DTSTAMP:20260421T023626
CREATED:20220719T180002Z
LAST-MODIFIED:20220719T180002Z
UID:7152-1654387200-1654473599@rdnums.edu.in
SUMMARY:World Environment Day
DESCRIPTION:
URL:https://rdnums.edu.in/event/world-environment-day/
END:VEVENT
BEGIN:VEVENT
DTSTART;VALUE=DATE:20220603
DTEND;VALUE=DATE:20220605
DTSTAMP:20260421T023626
CREATED:20220719T175945Z
LAST-MODIFIED:20220719T175945Z
UID:7150-1654214400-1654387199@rdnums.edu.in
SUMMARY:Activity Day on World Environment (Life Skill Activity-2nd Evaluation)
DESCRIPTION:Activity Day on World Environment (Life Skill Activity-2nd Evaluation) \nReport to be mailed to NBSE with pictures – Marime & Lemya  I/C
URL:https://rdnums.edu.in/event/activity-day-on-world-environment-life-skill-activity-2nd-evaluation/
END:VEVENT
BEGIN:VEVENT
DTSTART;VALUE=DATE:20220520
DTEND;VALUE=DATE:20220522
DTSTAMP:20260421T023626
CREATED:20220719T175922Z
LAST-MODIFIED:20220719T175922Z
UID:7148-1653004800-1653177599@rdnums.edu.in
SUMMARY:Games and Sports Day
DESCRIPTION:
URL:https://rdnums.edu.in/event/games-and-sports-day/
END:VEVENT
BEGIN:VEVENT
DTSTART;VALUE=DATE:20220506
DTEND;VALUE=DATE:20220508
DTSTAMP:20260421T023626
CREATED:20220719T175858Z
LAST-MODIFIED:20220719T175858Z
UID:7146-1651795200-1651967999@rdnums.edu.in
SUMMARY:Mother’s Day (Life Skill Activity-1st Evaluation)
DESCRIPTION:
URL:https://rdnums.edu.in/event/mothers-day-life-skill-activity-1st-evaluation/
END:VEVENT
BEGIN:VEVENT
DTSTART;VALUE=DATE:20220503
DTEND;VALUE=DATE:20220504
DTSTAMP:20260421T023626
CREATED:20220719T175838Z
LAST-MODIFIED:20220719T175838Z
UID:7144-1651536000-1651622399@rdnums.edu.in
SUMMARY:National holiday
DESCRIPTION:
URL:https://rdnums.edu.in/event/national-holiday-2/
END:VEVENT
BEGIN:VEVENT
DTSTART;VALUE=DATE:20220415
DTEND;VALUE=DATE:20220417
DTSTAMP:20260421T023626
CREATED:20220719T175817Z
LAST-MODIFIED:20220719T175817Z
UID:7142-1649980800-1650153599@rdnums.edu.in
SUMMARY:Good Friday and Easter Sunday
DESCRIPTION:
URL:https://rdnums.edu.in/event/good-friday-and-easter-sunday/
END:VEVENT
BEGIN:VEVENT
DTSTART;VALUE=DATE:20220413
DTEND;VALUE=DATE:20220415
DTSTAMP:20260421T023626
CREATED:20220719T175759Z
LAST-MODIFIED:20220719T175759Z
UID:7140-1649808000-1649980799@rdnums.edu.in
SUMMARY:Easter Egg Competition (Life Skill Activity-1st Evaluation)
DESCRIPTION:
URL:https://rdnums.edu.in/event/easter-egg-competition-life-skill-activity-1st-evaluation/
END:VEVENT
BEGIN:VEVENT
DTSTART;VALUE=DATE:20220404
DTEND;VALUE=DATE:20220406
DTSTAMP:20260421T023626
CREATED:20220719T175740Z
LAST-MODIFIED:20220719T175740Z
UID:7138-1649030400-1649203199@rdnums.edu.in
SUMMARY:Particulars of students of Classes 8 and 9 to NBSE
DESCRIPTION:Particulars of students of Classes 8 and 9 to NBSE/ Payment of class 8 registration fee (Rs 400)
URL:https://rdnums.edu.in/event/particulars-of-students-of-classes-8-and-9-to-nbse/
END:VEVENT
BEGIN:VEVENT
DTSTART;VALUE=DATE:20220401
DTEND;VALUE=DATE:20220403
DTSTAMP:20260421T023626
CREATED:20220719T175712Z
LAST-MODIFIED:20220719T175712Z
UID:7136-1648771200-1648943999@rdnums.edu.in
SUMMARY:Teachers Workshop
DESCRIPTION:
URL:https://rdnums.edu.in/event/teachers-workshop/
END:VEVENT
BEGIN:VEVENT
DTSTART;TZID=Asia/Kolkata:20220319T080000
DTEND;TZID=Asia/Kolkata:20220319T170000
DTSTAMP:20260421T023626
CREATED:20220719T175631Z
LAST-MODIFIED:20220719T175631Z
UID:7134-1647676800-1647709200@rdnums.edu.in
SUMMARY:General meeting cum Cleanliness Drive
DESCRIPTION:
URL:https://rdnums.edu.in/event/general-meeting-cum-cleanliness-drive/
END:VEVENT
BEGIN:VEVENT
DTSTART;VALUE=DATE:20220318
DTEND;VALUE=DATE:20220319
DTSTAMP:20260421T023626
CREATED:20220719T175602Z
LAST-MODIFIED:20220719T175602Z
UID:7132-1647561600-1647647999@rdnums.edu.in
SUMMARY:National Holiday
DESCRIPTION:
URL:https://rdnums.edu.in/event/national-holiday/
END:VEVENT
BEGIN:VEVENT
DTSTART;VALUE=DATE:20220317
DTEND;VALUE=DATE:20220318
DTSTAMP:20260421T023626
CREATED:20220719T175547Z
LAST-MODIFIED:20220719T175547Z
UID:7130-1647475200-1647561599@rdnums.edu.in
SUMMARY:Passport photo ( Class1/ class 5 and class 8) & Submission
DESCRIPTION:
URL:https://rdnums.edu.in/event/passport-photo-class1-class-5-and-class-8-submission/
END:VEVENT
BEGIN:VEVENT
DTSTART;VALUE=DATE:20220302
DTEND;VALUE=DATE:20220303
DTSTAMP:20260421T023626
CREATED:20220719T175522Z
LAST-MODIFIED:20220719T175522Z
UID:7128-1646179200-1646265599@rdnums.edu.in
SUMMARY:Toilet Training and Good Manners- UKG and below/Classes 1 to 9
DESCRIPTION:
URL:https://rdnums.edu.in/event/toilet-training-and-good-manners-ukg-and-below-classes-1-to-9/
END:VEVENT
BEGIN:VEVENT
DTSTART;VALUE=DATE:20220301
DTEND;VALUE=DATE:20220306
DTSTAMP:20260421T023626
CREATED:20220719T175452Z
LAST-MODIFIED:20220719T175452Z
UID:7126-1646092800-1646524799@rdnums.edu.in
SUMMARY:Collection of particulars/ profile of students
DESCRIPTION:
URL:https://rdnums.edu.in/event/collection-of-particulars-profile-of-students/
END:VEVENT
BEGIN:VEVENT
DTSTART;VALUE=DATE:20220301
DTEND;VALUE=DATE:20220306
DTSTAMP:20260421T023626
CREATED:20220719T175432Z
LAST-MODIFIED:20220719T175432Z
UID:7124-1646092800-1646524799@rdnums.edu.in
SUMMARY:Issue of PCR forms to Class 1
DESCRIPTION:
URL:https://rdnums.edu.in/event/issue-of-pcr-forms-to-class-1/
END:VEVENT
BEGIN:VEVENT
DTSTART;VALUE=DATE:20220215
DTEND;VALUE=DATE:20220216
DTSTAMP:20260421T023626
CREATED:20220719T175406Z
LAST-MODIFIED:20220719T175406Z
UID:7122-1644883200-1644969599@rdnums.edu.in
SUMMARY:Physical class for 1 to 9 starts
DESCRIPTION:NBCC Membership Fee (Toddler to Class 9) \nNBSE online meeting with the Headmaster
URL:https://rdnums.edu.in/event/physical-class-for-1-to-9-starts/
END:VEVENT
BEGIN:VEVENT
DTSTART;VALUE=DATE:20220207
DTEND;VALUE=DATE:20220208
DTSTAMP:20260421T023626
CREATED:20220719T175245Z
LAST-MODIFIED:20220719T175245Z
UID:7120-1644192000-1644278399@rdnums.edu.in
SUMMARY:Toddler to UKG Online Class
DESCRIPTION:
URL:https://rdnums.edu.in/event/toddler-to-ukg-online-class/
END:VEVENT
BEGIN:VEVENT
DTSTART;VALUE=DATE:20220202
DTEND;VALUE=DATE:20220203
DTSTAMP:20260421T023626
CREATED:20220719T175219Z
LAST-MODIFIED:20220719T175219Z
UID:7118-1643760000-1643846399@rdnums.edu.in
SUMMARY:Classes 1 to 5 - Online Class
DESCRIPTION:
URL:https://rdnums.edu.in/event/classes-1-to-5-online-class/
END:VEVENT
BEGIN:VEVENT
DTSTART;VALUE=DATE:20220201
DTEND;VALUE=DATE:20220202
DTSTAMP:20260421T023626
CREATED:20220719T175200Z
LAST-MODIFIED:20220719T175200Z
UID:7116-1643673600-1643759999@rdnums.edu.in
SUMMARY:Classes 6 to 9  Online  Class starts
DESCRIPTION:
URL:https://rdnums.edu.in/event/classes-6-to-9-online-class-starts/
END:VEVENT
BEGIN:VEVENT
DTSTART;VALUE=DATE:20220131
DTEND;VALUE=DATE:20220205
DTSTAMP:20260421T023626
CREATED:20220719T175017Z
LAST-MODIFIED:20220719T175017Z
UID:7113-1643587200-1644019199@rdnums.edu.in
SUMMARY:Introductory Class for Toddler to Class 9
DESCRIPTION:
URL:https://rdnums.edu.in/event/introductory-class-for-toddler-to-class-9/
END:VEVENT
BEGIN:VEVENT
DTSTART;VALUE=DATE:20220130
DTEND;VALUE=DATE:20220131
DTSTAMP:20260421T023626
CREATED:20220719T174457Z
LAST-MODIFIED:20220719T174457Z
UID:7107-1643500800-1643587199@rdnums.edu.in
SUMMARY:RDNUMS Establishment Day
DESCRIPTION:
URL:https://rdnums.edu.in/event/rdnums-establishment-day/
END:VEVENT
BEGIN:VEVENT
DTSTART;VALUE=DATE:20220120
DTEND;VALUE=DATE:20220121
DTSTAMP:20260421T023626
CREATED:20220719T174555Z
LAST-MODIFIED:20220719T174818Z
UID:7109-1642636800-1642723199@rdnums.edu.in
SUMMARY:Orientation on CCE & Tabulation
DESCRIPTION:Staff Meeting/ Orientation on CCE & Tabulation/ Demo on Tune In/Weekly lesson Plan and Targeted lesson/Orientation on how to conduct Virtual class/Issue of Text Books to subject teachers/ Maintenance of Class Notice Board with Classroom Rules/ Group Name
URL:https://rdnums.edu.in/event/orientation-on-cce-tabulation/
END:VEVENT
END:VCALENDAR